BEGIN:VCALENDAR
VERSION:2.0
PRODID:SchoolNow
CALSCALE:GREGORIAN
BEGIN:VEVENT
UID:116ffbc4-c70a-11eb-b456-0ead2cbb649d
DTSTAMP:20210606T205922Z
SUMMARY:Charm City Eats Food Truck
LOCATION:Lodge Parking Lot
URL;VALUE=URI:https://www.wildernesslakecdd.org/calendar/2612388/charm-city
 -eats-food-truck
DTSTART:20210626T200000Z
DTEND:20210627T000000Z
END:VEVENT
END:VCALENDAR
