BEGIN:VCALENDAR
VERSION:2.0
PRODID:SchoolNow
CALSCALE:GREGORIAN
BEGIN:VEVENT
UID:f49f4b12-c709-11eb-9b0d-0ead2cbb649d
DTSTAMP:20210622T174750Z
SUMMARY:OneBlood - Blood Drive
LOCATION:Lodge Parking Lot
URL;VALUE=URI:https://www.wildernesslakecdd.org/calendar/2612387/one-blood-
 blood-drive
DTSTART:20210626T140000Z
DTEND:20210626T190000Z
END:VEVENT
END:VCALENDAR
