BEGIN:VCALENDAR
VERSION:2.0
PRODID:SchoolNow
CALSCALE:GREGORIAN
BEGIN:VEVENT
UID:c3aae28c-c709-11eb-a0db-0ead2cbb649d
DTSTAMP:20210606T205711Z
SUMMARY:Hot Off the Press Food Truck
LOCATION:Lodge Parking Lot
URL;VALUE=URI:https://www.wildernesslakecdd.org/calendar/2612386/hot-off-th
 e-press-food-truck
DTSTART:20210624T200000Z
DTEND:20210625T000000Z
END:VEVENT
END:VCALENDAR
