BEGIN:VCALENDAR
VERSION:2.0
PRODID:SchoolNow
CALSCALE:GREGORIAN
BEGIN:VEVENT
UID:a60aa0c8-c709-11eb-8516-0ead2cbb649d
DTSTAMP:20210606T205621Z
SUMMARY:Bubble Mania
LOCATION:Lodge Courtyard
URL;VALUE=URI:https://www.wildernesslakecdd.org/calendar/2612385/bubble-man
 ia
DTSTART:20210623T170000Z
DTEND:20210623T190000Z
END:VEVENT
END:VCALENDAR
