BEGIN:VCALENDAR
VERSION:2.0
PRODID:SchoolNow
CALSCALE:GREGORIAN
BEGIN:VEVENT
UID:895ff162-c709-11eb-baa0-0ead2cbb649d
DTSTAMP:20210606T205533Z
SUMMARY:Basketball Bonanza
LOCATION:Basketball Court
URL;VALUE=URI:https://www.wildernesslakecdd.org/calendar/2612384/basketball
 -bonanza
DTSTART:20210622T150000Z
DTEND:20210622T180000Z
END:VEVENT
END:VCALENDAR
