BEGIN:VCALENDAR
VERSION:2.0
PRODID:SchoolNow
CALSCALE:GREGORIAN
BEGIN:VEVENT
UID:63b84856-c709-11eb-8792-0ead2cbb649d
DTSTAMP:20210606T205430Z
SUMMARY:NXT Generation Food Truck
LOCATION:Lodge Parking Lot
URL;VALUE=URI:https://www.wildernesslakecdd.org/calendar/2612383/nxt-genera
 tion-food-truck
DTSTART:20210619T170000Z
DTEND:20210619T200000Z
END:VEVENT
END:VCALENDAR
