BEGIN:VCALENDAR
VERSION:2.0
PRODID:SchoolNow
CALSCALE:GREGORIAN
BEGIN:VEVENT
UID:25dce762-c709-11eb-90ec-0ead2cbb649d
DTSTAMP:20210606T205246Z
SUMMARY:Pool Party
LOCATION:Aquatics
URL;VALUE=URI:https://www.wildernesslakecdd.org/calendar/2612382/pool-party
DTSTART:20210619T170000Z
DTEND:20210619T200000Z
END:VEVENT
END:VCALENDAR
