BEGIN:VCALENDAR
VERSION:2.0
PRODID:SchoolNow
CALSCALE:GREGORIAN
BEGIN:VEVENT
UID:7c6986c2-c708-11eb-a668-0ead2cbb649d
DTSTAMP:20210606T205136Z
SUMMARY:Bunco Meeting
LOCATION:Activities Center
URL;VALUE=URI:https://www.wildernesslakecdd.org/calendar/2612380/bunco-meet
 in
DTSTART:20210617T230000Z
DTEND:20210618T003000Z
END:VEVENT
END:VCALENDAR
