BEGIN:VCALENDAR
VERSION:2.0
PRODID:SchoolNow
CALSCALE:GREGORIAN
BEGIN:VEVENT
UID:4df7f03a-c708-11eb-943a-0ead2cbb649d
DTSTAMP:20210606T204644Z
SUMMARY:Asian Variety Food Truck
LOCATION:Lodge Parking Lot
URL;VALUE=URI:https://www.wildernesslakecdd.org/calendar/2612379/asian-vari
 ety-food-truck
DTSTART:20210617T200000Z
DTEND:20210618T000000Z
END:VEVENT
END:VCALENDAR
