BEGIN:VCALENDAR
VERSION:2.0
PRODID:SchoolNow
CALSCALE:GREGORIAN
BEGIN:VEVENT
UID:2ddfef64-c708-11eb-9031-0ead2cbb649d
DTSTAMP:20210606T204550Z
SUMMARY:Taco Tuesday
LOCATION:Activities Center
URL;VALUE=URI:https://www.wildernesslakecdd.org/calendar/2612378/taco-tuesd
 ay
DTSTART:20210615T160000Z
DTEND:20210615T180000Z
END:VEVENT
END:VCALENDAR
