BEGIN:VCALENDAR
VERSION:2.0
PRODID:SchoolNow
CALSCALE:GREGORIAN
BEGIN:VEVENT
UID:d0c05918-c707-11eb-b187-0ead2cbb649d
DTSTAMP:20210606T204314Z
SUMMARY:Children's Intro to Tennis
LOCATION:Tennis Courts
URL;VALUE=URI:https://www.wildernesslakecdd.org/calendar/2612377/childrens-
 intro-to-tennis
DTSTART:20210626T130000Z
DTEND:20210626T150000Z
END:VEVENT
END:VCALENDAR
