BEGIN:VCALENDAR
VERSION:2.0
PRODID:SchoolNow
CALSCALE:GREGORIAN
BEGIN:VEVENT
UID:acb8a8cc-c707-11eb-8c16-0ead2cbb649d
DTSTAMP:20210606T204214Z
SUMMARY:Children's Intro to Tennis
LOCATION:Tennis Courts
URL;VALUE=URI:https://www.wildernesslakecdd.org/calendar/2612376/childrens-
 intro-to-tennis
DTSTART:20210612T130000Z
DTEND:20210612T150000Z
END:VEVENT
END:VCALENDAR
