BEGIN:VCALENDAR
VERSION:2.0
PRODID:SchoolNow
CALSCALE:GREGORIAN
BEGIN:VEVENT
UID:49a21ce6-c707-11eb-a51b-0ead2cbb649d
DTSTAMP:20210606T203927Z
SUMMARY:Art Class
URL;VALUE=URI:https://www.wildernesslakecdd.org/calendar/2612375/art-class
DTSTART:20210612T160000Z
DTEND:20210612T180000Z
END:VEVENT
END:VCALENDAR
