BEGIN:VCALENDAR
VERSION:2.0
PRODID:SchoolNow
CALSCALE:GREGORIAN
BEGIN:VEVENT
UID:ef126b64-c706-11eb-8ff9-0ead2cbb649d
DTSTAMP:20210606T204905Z
SUMMARY:Book Club Meeting
LOCATION:Nature Center Classroom
URL;VALUE=URI:https://www.wildernesslakecdd.org/calendar/2612374/book-club-
 meeting
DTSTART:20210611T230000Z
DTEND:20210612T003000Z
END:VEVENT
END:VCALENDAR
