BEGIN:VCALENDAR
VERSION:2.0
PRODID:SchoolNow
CALSCALE:GREGORIAN
BEGIN:VEVENT
UID:ac869b76-c706-11eb-972b-0ead2cbb649d
DTSTAMP:20210606T203504Z
SUMMARY:Family Movie Night
LOCATION:Theatre
URL;VALUE=URI:https://www.wildernesslakecdd.org/calendar/2612373/family-mov
 ie-night
DTSTART:20210611T230000Z
DTEND:20210612T010000Z
END:VEVENT
END:VCALENDAR
