BEGIN:VCALENDAR
VERSION:2.0
PRODID:SchoolNow
CALSCALE:GREGORIAN
BEGIN:VEVENT
UID:0bf3be0a-c706-11eb-a690-0ae7a8c1b8d7
DTSTAMP:20210611T021158Z
SUMMARY:Charm City Eats Food Truck
LOCATION:Lodge Parking Lot
URL;VALUE=URI:https://www.wildernesslakecdd.org/calendar/2612372/charm-city
 -eats-food-truck
DTSTART:20210611T210000Z
DTEND:20210612T010000Z
END:VEVENT
END:VCALENDAR
