BEGIN:VCALENDAR
VERSION:2.0
PRODID:SchoolNow
CALSCALE:GREGORIAN
BEGIN:VEVENT
UID:e6c25ad8-c705-11eb-a2d2-0ae7a8c1b8d7
DTSTAMP:20210606T202932Z
SUMMARY:Badminton Bash
LOCATION:Lodge Courtyard
URL;VALUE=URI:https://www.wildernesslakecdd.org/calendar/2612371/badminton-
 bash
DTSTART:20210609T150000Z
DTEND:20210609T180000Z
END:VEVENT
END:VCALENDAR
