BEGIN:VCALENDAR
VERSION:2.0
PRODID:SchoolNow
CALSCALE:GREGORIAN
BEGIN:VEVENT
UID:54d6cb40-c705-11eb-b385-0ae7a8c1b8d7
DTSTAMP:20210606T202558Z
SUMMARY:Yoga
URL;VALUE=URI:https://www.wildernesslakecdd.org/calendar/2612370/yoga
DTSTART:20210629T121500Z
DTEND:20210629T134600Z
END:VEVENT
END:VCALENDAR
