BEGIN:VCALENDAR
VERSION:2.0
PRODID:SchoolNow
CALSCALE:GREGORIAN
BEGIN:VEVENT
UID:20843a76-c705-11eb-a20b-0ae7a8c1b8d7
DTSTAMP:20210606T202359Z
SUMMARY:Yoga
URL;VALUE=URI:https://www.wildernesslakecdd.org/calendar/2612369/yoga
DTSTART:20210624T121500Z
DTEND:20210624T134500Z
END:VEVENT
END:VCALENDAR
