BEGIN:VCALENDAR
VERSION:2.0
PRODID:SchoolNow
CALSCALE:GREGORIAN
BEGIN:VEVENT
UID:ec3859d2-c704-11eb-9aec-0ae7a8c1b8d7
DTSTAMP:20210606T202232Z
SUMMARY:Yoga
URL;VALUE=URI:https://www.wildernesslakecdd.org/calendar/2612368/yoga
DTSTART:20210622T121500Z
DTEND:20210622T134500Z
END:VEVENT
END:VCALENDAR
