BEGIN:VCALENDAR
VERSION:2.0
PRODID:SchoolNow
CALSCALE:GREGORIAN
BEGIN:VEVENT
UID:d33f7a14-c704-11eb-b065-0ae7a8c1b8d7
DTSTAMP:20210606T202150Z
SUMMARY:Yoga
URL;VALUE=URI:https://www.wildernesslakecdd.org/calendar/2612367/yoga
DTSTART:20210617T121500Z
DTEND:20210617T134500Z
END:VEVENT
END:VCALENDAR
