BEGIN:VCALENDAR
VERSION:2.0
PRODID:SchoolNow
CALSCALE:GREGORIAN
BEGIN:VEVENT
UID:baa2e52c-c704-11eb-a87e-0ae7a8c1b8d7
DTSTAMP:20210606T202256Z
SUMMARY:Yoga
URL;VALUE=URI:https://www.wildernesslakecdd.org/calendar/2612366/yoga
DTSTART:20210615T121500Z
DTEND:20210615T134500Z
END:VEVENT
END:VCALENDAR
