BEGIN:VCALENDAR
VERSION:2.0
PRODID:SchoolNow
CALSCALE:GREGORIAN
BEGIN:VEVENT
UID:96c5307e-c704-11eb-80ad-0ae7a8c1b8d7
DTSTAMP:20210606T202008Z
SUMMARY:Yoga
URL;VALUE=URI:https://www.wildernesslakecdd.org/calendar/2612365/yoga
DTSTART:20210610T121500Z
DTEND:20210610T134500Z
END:VEVENT
END:VCALENDAR
