BEGIN:VCALENDAR
VERSION:2.0
PRODID:SchoolNow
CALSCALE:GREGORIAN
BEGIN:VEVENT
UID:7c0967e6-c704-11eb-9d5c-0ae7a8c1b8d7
DTSTAMP:20210606T201923Z
SUMMARY:Yoga
URL;VALUE=URI:https://www.wildernesslakecdd.org/calendar/2612364/yoga
DTSTART:20210608T121500Z
DTEND:20210608T134500Z
END:VEVENT
END:VCALENDAR
