BEGIN:VCALENDAR
VERSION:2.0
PRODID:SchoolNow
CALSCALE:GREGORIAN
BEGIN:VEVENT
UID:40d65ae4-c704-11eb-9efe-0ae7a8c1b8d7
DTSTAMP:20210606T201744Z
SUMMARY:Water Aerobics
URL;VALUE=URI:https://www.wildernesslakecdd.org/calendar/2612363/water-aero
 bics
DTSTART:20210630T130000Z
DTEND:20210630T140000Z
END:VEVENT
END:VCALENDAR
