BEGIN:VCALENDAR
VERSION:2.0
PRODID:SchoolNow
CALSCALE:GREGORIAN
BEGIN:VEVENT
UID:2bf53050-c704-11eb-8618-0ae7a8c1b8d7
DTSTAMP:20210606T201709Z
SUMMARY:Water Aerobics
URL;VALUE=URI:https://www.wildernesslakecdd.org/calendar/2612362/water-aero
 bics
DTSTART:20210629T130000Z
DTEND:20210629T140000Z
END:VEVENT
END:VCALENDAR
