BEGIN:VCALENDAR
VERSION:2.0
PRODID:SchoolNow
CALSCALE:GREGORIAN
BEGIN:VEVENT
UID:1680a06a-c704-11eb-babd-0ae7a8c1b8d7
DTSTAMP:20210606T201633Z
SUMMARY:Water Aerobics
URL;VALUE=URI:https://www.wildernesslakecdd.org/calendar/2612361/water-aero
 bics
DTSTART:20210628T130000Z
DTEND:20210628T140000Z
END:VEVENT
END:VCALENDAR
