BEGIN:VCALENDAR
VERSION:2.0
PRODID:SchoolNow
CALSCALE:GREGORIAN
BEGIN:VEVENT
UID:015b7674-c704-11eb-bc7f-0ae7a8c1b8d7
DTSTAMP:20210606T201558Z
SUMMARY:Water Aerobics
URL;VALUE=URI:https://www.wildernesslakecdd.org/calendar/2612360/water-aero
 bics
DTSTART:20210625T130000Z
DTEND:20210625T140000Z
END:VEVENT
END:VCALENDAR
