BEGIN:VCALENDAR
VERSION:2.0
PRODID:SchoolNow
CALSCALE:GREGORIAN
BEGIN:VEVENT
UID:d6b12a54-c703-11eb-9f5f-0ae7a8c1b8d7
DTSTAMP:20210606T201446Z
SUMMARY:Water Aerobics
URL;VALUE=URI:https://www.wildernesslakecdd.org/calendar/2612358/water-aero
 bics
DTSTART:20210623T130000Z
DTEND:20210623T140000Z
END:VEVENT
END:VCALENDAR
