BEGIN:VCALENDAR
VERSION:2.0
PRODID:SchoolNow
CALSCALE:GREGORIAN
BEGIN:VEVENT
UID:c16973a4-c703-11eb-b3bb-0ae7a8c1b8d7
DTSTAMP:20210606T201410Z
SUMMARY:Water Aerobics
URL;VALUE=URI:https://www.wildernesslakecdd.org/calendar/2612357/water-aero
 bics
DTSTART:20210622T130000Z
DTEND:20210622T140000Z
END:VEVENT
END:VCALENDAR
