BEGIN:VCALENDAR
VERSION:2.0
PRODID:SchoolNow
CALSCALE:GREGORIAN
BEGIN:VEVENT
UID:a2da3b62-c703-11eb-8eb5-0ae7a8c1b8d7
DTSTAMP:20210606T201319Z
SUMMARY:Water Aerobics
URL;VALUE=URI:https://www.wildernesslakecdd.org/calendar/2612356/water-aero
 bics
DTSTART:20210621T130000Z
DTEND:20210621T140000Z
END:VEVENT
END:VCALENDAR
