BEGIN:VCALENDAR
VERSION:2.0
PRODID:SchoolNow
CALSCALE:GREGORIAN
BEGIN:VEVENT
UID:8a0b911c-c703-11eb-8a22-0ae7a8c1b8d7
DTSTAMP:20210606T201237Z
SUMMARY:Water Aerobics
URL;VALUE=URI:https://www.wildernesslakecdd.org/calendar/2612355/water-aero
 bics
DTSTART:20210618T130000Z
DTEND:20210618T140000Z
END:VEVENT
END:VCALENDAR
