BEGIN:VCALENDAR
VERSION:2.0
PRODID:SchoolNow
CALSCALE:GREGORIAN
BEGIN:VEVENT
UID:6a5887e4-c703-11eb-9c01-0ae7a8c1b8d7
DTSTAMP:20210606T201144Z
SUMMARY:Water Aerobics
URL;VALUE=URI:https://www.wildernesslakecdd.org/calendar/2612354/water-aero
 bics
DTSTART:20210617T130000Z
DTEND:20210617T140000Z
END:VEVENT
END:VCALENDAR
