BEGIN:VCALENDAR
VERSION:2.0
PRODID:SchoolNow
CALSCALE:GREGORIAN
BEGIN:VEVENT
UID:2dadcc6e-c703-11eb-8983-0ae7a8c1b8d7
DTSTAMP:20210606T201003Z
SUMMARY:Water Aerobics
URL;VALUE=URI:https://www.wildernesslakecdd.org/calendar/2612353/water-aero
 bics
DTSTART:20210616T130000Z
DTEND:20210616T140000Z
END:VEVENT
END:VCALENDAR
