BEGIN:VCALENDAR
VERSION:2.0
PRODID:SchoolNow
CALSCALE:GREGORIAN
BEGIN:VEVENT
UID:021abec2-c703-11eb-bfbc-0ae7a8c1b8d7
DTSTAMP:20210606T200849Z
SUMMARY:Water Aerobics
URL;VALUE=URI:https://www.wildernesslakecdd.org/calendar/2612351/water-aero
 bics
DTSTART:20210614T130000Z
DTEND:20210614T140000Z
END:VEVENT
END:VCALENDAR
