BEGIN:VCALENDAR
VERSION:2.0
PRODID:SchoolNow
CALSCALE:GREGORIAN
BEGIN:VEVENT
UID:bfb4ddce-c702-11eb-95c5-0ae7a8c1b8d7
DTSTAMP:20210606T200714Z
SUMMARY:Water Aerobics
URL;VALUE=URI:https://www.wildernesslakecdd.org/calendar/2612349/water-aero
 bics
DTSTART:20210610T130000Z
DTEND:20210610T140000Z
END:VEVENT
END:VCALENDAR
