BEGIN:VCALENDAR
VERSION:2.0
PRODID:SchoolNow
CALSCALE:GREGORIAN
BEGIN:VEVENT
UID:8ef60d7a-c702-11eb-a265-0ae7a8c1b8d7
DTSTAMP:20210606T200536Z
SUMMARY:Water Aerobics
URL;VALUE=URI:https://www.wildernesslakecdd.org/calendar/2612348/water-aero
 bics
DTSTART:20210609T130000Z
DTEND:20210609T140000Z
END:VEVENT
END:VCALENDAR
