BEGIN:VCALENDAR
VERSION:2.0
PRODID:SchoolNow
CALSCALE:GREGORIAN
BEGIN:VEVENT
UID:51ee3380-c702-11eb-b015-0ae7a8c1b8d7
DTSTAMP:20210606T200354Z
SUMMARY:Water Aerobics
URL;VALUE=URI:https://www.wildernesslakecdd.org/calendar/2612346/water-aero
 bics
DTSTART:20210607T130000Z
DTEND:20210607T140000Z
END:VEVENT
END:VCALENDAR
