BEGIN:VCALENDAR
VERSION:2.0
PRODID:SchoolNow
CALSCALE:GREGORIAN
BEGIN:VEVENT
UID:199cfa7a-c702-11eb-baab-0ae7a8c1b8d7
DTSTAMP:20210606T200219Z
SUMMARY:Water Aerobics
URL;VALUE=URI:https://www.wildernesslakecdd.org/calendar/2612345/water-aero
 bics
DTSTART:20210606T130000Z
DTEND:20210606T140000Z
END:VEVENT
END:VCALENDAR
