BEGIN:VCALENDAR
VERSION:2.0
PRODID:SchoolNow
CALSCALE:GREGORIAN
BEGIN:VEVENT
UID:cb6afda2-c701-11eb-8b22-0ae7a8c1b8d7
DTSTAMP:20210606T200110Z
SUMMARY:Jr.'s Food Machine
URL;VALUE=URI:https://www.wildernesslakecdd.org/calendar/2612344/jr-s-food-
 machine
DTSTART:20210608T210000Z
DTEND:20210609T000000Z
END:VEVENT
END:VCALENDAR
