BEGIN:VCALENDAR
VERSION:2.0
PRODID:SchoolNow
CALSCALE:GREGORIAN
BEGIN:VEVENT
UID:cb45eef0-ac75-11eb-addb-02b41e2f6989
DTSTAMP:20210504T011228Z
SUMMARY:Walking\, Toning\, and Strengthenig Class
LOCATION:Activities Center
URL;VALUE=URI:https://www.wildernesslakecdd.org/calendar/2593002/walking-to
 ning-and-strengthenig-class
DTSTART:20210526T133000Z
DTEND:20210526T144500Z
END:VEVENT
END:VCALENDAR
