BEGIN:VCALENDAR
VERSION:2.0
PRODID:SchoolNow
CALSCALE:GREGORIAN
BEGIN:VEVENT
UID:a6326c4c-ac75-11eb-80dd-02b41e2f6989
DTSTAMP:20210504T011126Z
SUMMARY:Walking\, Toning\, and Strengthening Class
LOCATION:Activities Center
URL;VALUE=URI:https://www.wildernesslakecdd.org/calendar/2593001/walking-to
 ning-and-strengthening-class
DTSTART:20210524T133000Z
DTEND:20210524T144500Z
END:VEVENT
END:VCALENDAR
