BEGIN:VCALENDAR
VERSION:2.0
PRODID:SchoolNow
CALSCALE:GREGORIAN
BEGIN:VEVENT
UID:2fb5882e-ac75-11eb-b29f-02b41e2f6989
DTSTAMP:20210504T010807Z
SUMMARY:Walking\, Toning\, and Strenthening Class
LOCATION:Activities Center
URL;VALUE=URI:https://www.wildernesslakecdd.org/calendar/2592998/walking-to
 ning-and-strenthening-class
DTSTART:20210517T133000Z
DTEND:20210517T144500Z
END:VEVENT
END:VCALENDAR
