BEGIN:VCALENDAR
VERSION:2.0
PRODID:SchoolNow
CALSCALE:GREGORIAN
BEGIN:VEVENT
UID:d5d7981a-ac74-11eb-8604-02b41e2f6989
DTSTAMP:20210504T010536Z
SUMMARY:Walking\, Toning\, and Strenthening Class
LOCATION:Activities Center
URL;VALUE=URI:https://www.wildernesslakecdd.org/calendar/2592996/walking-to
 ning-and-strenthening-class
DTSTART:20210512T133000Z
DTEND:20210512T144500Z
END:VEVENT
END:VCALENDAR
