BEGIN:VCALENDAR
VERSION:2.0
PRODID:SchoolNow
CALSCALE:GREGORIAN
BEGIN:VEVENT
UID:b6fc274e-ac74-11eb-8df8-02b41e2f6989
DTSTAMP:20210504T010445Z
SUMMARY:Walking\, Toning\, and Strengthening Class
LOCATION:Activities Center
URL;VALUE=URI:https://www.wildernesslakecdd.org/calendar/2592995/walking-to
 ning-and-strengthening-class
DTSTART:20210510T133000Z
DTEND:20210510T144500Z
END:VEVENT
END:VCALENDAR
