BEGIN:VCALENDAR
VERSION:2.0
PRODID:SchoolNow
CALSCALE:GREGORIAN
BEGIN:VEVENT
UID:91292ad0-ac74-11eb-8873-02b41e2f6989
DTSTAMP:20210504T010704Z
SUMMARY:Walking\, Toning\, and Strengthening Class
LOCATION:Activities Center
URL;VALUE=URI:https://www.wildernesslakecdd.org/calendar/2592994/walking-to
 ning-and-strengthening-class
DTSTART:20210507T133000Z
DTEND:20210507T144500Z
END:VEVENT
END:VCALENDAR
