BEGIN:VCALENDAR
VERSION:2.0
PRODID:SchoolNow
CALSCALE:GREGORIAN
BEGIN:VEVENT
UID:4e40a298-ac74-11eb-8eb7-02b41e2f6989
DTSTAMP:20210504T010149Z
SUMMARY:Walking\, Toning\, and Strengthening Class
LOCATION:Activities Center
URL;VALUE=URI:https://www.wildernesslakecdd.org/calendar/2592993/walking-to
 ning-and-strengthening-class
DTSTART:20210505T133000Z
DTEND:20210505T144500Z
END:VEVENT
END:VCALENDAR
