BEGIN:VCALENDAR
VERSION:2.0
PRODID:SchoolNow
CALSCALE:GREGORIAN
BEGIN:VEVENT
UID:fe7d817c-ac73-11eb-944a-02b41e2f6989
DTSTAMP:20210504T005935Z
SUMMARY:Yoga
LOCATION:Activities Center
URL;VALUE=URI:https://www.wildernesslakecdd.org/calendar/2592992/yoga
DTSTART:20210527T121500Z
DTEND:20210527T134500Z
END:VEVENT
END:VCALENDAR
