BEGIN:VCALENDAR
VERSION:2.0
PRODID:SchoolNow
CALSCALE:GREGORIAN
BEGIN:VEVENT
UID:de1ceac6-ac73-11eb-89a0-02b41e2f6989
DTSTAMP:20210504T005946Z
SUMMARY:Yoga
LOCATION:Activities Center
URL;VALUE=URI:https://www.wildernesslakecdd.org/calendar/2592991/yoga
DTSTART:20210525T121500Z
DTEND:20210525T134500Z
END:VEVENT
END:VCALENDAR
