BEGIN:VCALENDAR
VERSION:2.0
PRODID:SchoolNow
CALSCALE:GREGORIAN
BEGIN:VEVENT
UID:b24bfed2-ac73-11eb-abcc-02b41e2f6989
DTSTAMP:20210504T005746Z
SUMMARY:Yoga
LOCATION:Activities Center
URL;VALUE=URI:https://www.wildernesslakecdd.org/calendar/2592990/yoga
DTSTART:20210520T121500Z
DTEND:20210520T134500Z
END:VEVENT
END:VCALENDAR
